BEGIN:VCALENDAR
VERSION:2.0
PRODID:-//Marcos Agave Tours - ECPv6.5.1//NONSGML v1.0//EN
CALSCALE:GREGORIAN
METHOD:PUBLISH
X-WR-CALNAME:Marcos Agave Tours
X-ORIGINAL-URL:https://www.marcosagave.com
X-WR-CALDESC:Events for Marcos Agave Tours
REFRESH-INTERVAL;VALUE=DURATION:PT1H
X-Robots-Tag:noindex
X-PUBLISHED-TTL:PT1H
BEGIN:VTIMEZONE
TZID:UTC
BEGIN:STANDARD
TZOFFSETFROM:+0000
TZOFFSETTO:+0000
TZNAME:UTC
DTSTART:20240101T000000
END:STANDARD
END:VTIMEZONE
BEGIN:VEVENT
DTSTART;TZID=UTC:20240716T080000
DTEND;TZID=UTC:20240719T170000
DTSTAMP:20260421T153311
CREATED:20240614T025440Z
LAST-MODIFIED:20240624T021149Z
UID:116-1721116800-1721408400@www.marcosagave.com
SUMMARY:Intermoda Mexico
DESCRIPTION:IM INTERMODA Mexico is a prominent expo event that brings together fashion industry professionals\, showcasing the latest trends\, technologies\, and services. With a focus on fostering networking opportunities and business growth\, it serves as a platform to discover cutting-edge designs and innovations in the fashion world.
URL:https://www.marcosagave.com/event/event-name-3/
LOCATION:expo guadalajara\, Av. Mariano Otero 1499\, Verde Valle\, Guadalajara\, Jalisco\, 44550\, Mexico
ATTACH;FMTTYPE=image/jpeg:https://www.marcosagave.com/wp-content/uploads/2024/06/5727571525fea-12573869_1180387535322970_895857709787226962_n.jpg
END:VEVENT
END:VCALENDAR