BEGIN:VCALENDAR
VERSION:2.0
PRODID:-//Marcos Agave Tours - ECPv6.5.1//NONSGML v1.0//EN
CALSCALE:GREGORIAN
METHOD:PUBLISH
X-WR-CALNAME:Marcos Agave Tours
X-ORIGINAL-URL:https://www.marcosagave.com
X-WR-CALDESC:Events for Marcos Agave Tours
REFRESH-INTERVAL;VALUE=DURATION:PT1H
X-Robots-Tag:noindex
X-PUBLISHED-TTL:PT1H
BEGIN:VTIMEZONE
TZID:UTC
BEGIN:STANDARD
TZOFFSETFROM:+0000
TZOFFSETTO:+0000
TZNAME:UTC
DTSTART:20240101T000000
END:STANDARD
END:VTIMEZONE
BEGIN:VEVENT
DTSTART;TZID=UTC:20240813T080000
DTEND;TZID=UTC:20240817T170000
DTSTAMP:20260421T135526
CREATED:20240624T020629Z
LAST-MODIFIED:20240624T021154Z
UID:420-1723536000-1723914000@www.marcosagave.com
SUMMARY:Expo EnArt Tlaquepaque
DESCRIPTION:Expo Enart Tlaquepaque is the national exhibition of Mexican handicrafts and gift and decoration items. \n\nHighlights\n\nPopular among visitors for\n\nTop 100 in Arts & CraftsQuality of ParticipantsExhibitors & Vendors\n\n\n\nRecommended for\n\nArchitects & Interior Designers
URL:https://www.marcosagave.com/event/expo-enart-tlaquepaque/
LOCATION:Centro Cultural El Refugio\, Tlaquepaque\, Mexico
ATTACH;FMTTYPE=image/jpeg:https://www.marcosagave.com/wp-content/uploads/2024/06/images.jpg
END:VEVENT
END:VCALENDAR