BEGIN:VCALENDAR
VERSION:2.0
PRODID:-//Marcos Agave Tours - ECPv6.5.1//NONSGML v1.0//EN
CALSCALE:GREGORIAN
METHOD:PUBLISH
X-WR-CALNAME:Marcos Agave Tours
X-ORIGINAL-URL:https://www.marcosagave.com
X-WR-CALDESC:Events for Marcos Agave Tours
REFRESH-INTERVAL;VALUE=DURATION:PT1H
X-Robots-Tag:noindex
X-PUBLISHED-TTL:PT1H
BEGIN:VTIMEZONE
TZID:UTC
BEGIN:STANDARD
TZOFFSETFROM:+0000
TZOFFSETTO:+0000
TZNAME:UTC
DTSTART:20240101T000000
END:STANDARD
END:VTIMEZONE
BEGIN:VEVENT
DTSTART;TZID=UTC:20240818T200000
DTEND;TZID=UTC:20240818T200000
DTSTAMP:20260421T135528
CREATED:20240614T025551Z
LAST-MODIFIED:20240624T021158Z
UID:118-1724011200-1724011200@www.marcosagave.com
SUMMARY:Lola Indigo Live in Concert
DESCRIPTION:Aug 18 at 8:00PM – 12:00AM\n\n\nC3 Stage GDL\nAv. Vallarta 1488\, Col. Americana\, Lafayette\nGuadalajara
URL:https://www.marcosagave.com/event/event-4/
ATTACH;FMTTYPE=image/webp:https://www.marcosagave.com/wp-content/uploads/2024/06/9116844.webp
END:VEVENT
END:VCALENDAR