BEGIN:VCALENDAR
VERSION:2.0
PRODID:-//Marcos Agave Tours - ECPv6.5.1//NONSGML v1.0//EN
CALSCALE:GREGORIAN
METHOD:PUBLISH
X-ORIGINAL-URL:https://www.marcosagave.com
X-WR-CALDESC:Events for Marcos Agave Tours
REFRESH-INTERVAL;VALUE=DURATION:PT1H
X-Robots-Tag:noindex
X-PUBLISHED-TTL:PT1H
BEGIN:VTIMEZONE
TZID:UTC
BEGIN:STANDARD
TZOFFSETFROM:+0000
TZOFFSETTO:+0000
TZNAME:UTC
DTSTART:20240101T000000
END:STANDARD
END:VTIMEZONE
BEGIN:VEVENT
DTSTART;VALUE=DATE:20241130
DTEND;VALUE=DATE:20250101
DTSTAMP:20260421T060109
CREATED:20240614T025330Z
LAST-MODIFIED:20240624T014833Z
UID:111-1732924800-1735689599@www.marcosagave.com
SUMMARY:Tattoo Music Festival MX 2024
DESCRIPTION:The time has come for the 3rd edition of Tattoo Music Fest MX 2024 after 2 great editions in 2022 and 2023\, one of the festivals that has managed to position itself as one of the most important of its styles at the national level. This is Tattoo Music Fest MX 2024. \nGet ready for the biggest edition this festival has ever had and live the experience.\nConcerts\n400 Tattoo Artists\nSkate\nGraffiti \nMuch more awaits you at this unique party
URL:https://www.marcosagave.com/event/event-name-1/
ATTACH;FMTTYPE=image/webp:https://www.marcosagave.com/wp-content/uploads/2024/06/Tattoo-Music-Fest-MX-2024-1-jpg.webp
END:VEVENT
END:VCALENDAR