BEGIN:VCALENDAR
VERSION:2.0
PRODID:-//Marcos Agave Tours - ECPv6.5.1//NONSGML v1.0//EN
CALSCALE:GREGORIAN
METHOD:PUBLISH
X-WR-CALNAME:Marcos Agave Tours
X-ORIGINAL-URL:https://www.marcosagave.com
X-WR-CALDESC:Events for Marcos Agave Tours
REFRESH-INTERVAL;VALUE=DURATION:PT1H
X-Robots-Tag:noindex
X-PUBLISHED-TTL:PT1H
BEGIN:VTIMEZONE
TZID:UTC
BEGIN:STANDARD
TZOFFSETFROM:+0000
TZOFFSETTO:+0000
TZNAME:UTC
DTSTART:20240101T000000
END:STANDARD
END:VTIMEZONE
BEGIN:VEVENT
DTSTART;TZID=UTC:20240713T080000
DTEND;TZID=UTC:20240713T170000
DTSTAMP:20260421T185540
CREATED:20240624T020829Z
LAST-MODIFIED:20240624T021426Z
UID:424-1720857600-1720890000@www.marcosagave.com
SUMMARY:Ghibli Visual Concert
DESCRIPTION:Prepare to immerse yourself in the enchanting world of GHIBLI VISUAL CONCERT in San Pedro Tlaquepaque. The event will take place at Centro Cultural El Refugio on July 13\, 2024\, at 20:00 hrs. Experience a tribute to your favorite movies through captivating melodies and stunning visuals. Enjoy iconic scenes and memorable music from beloved classics in a magical evening filled with nostalgia\, wonder\, and joy. The venue\, known for its impressive architecture\, offers comfortable seating and air conditioning for your convenience. Tickets range from $270.28 to $745.96\, offering various options to enhance your experience. With limited capacity and high demand\, it is advisable to purchase your tickets in advance. Don’t miss this extraordinary opportunity to be transported to a fantastic world through the GHIBLI VISUAL CONCERT.
URL:https://www.marcosagave.com/event/ghibli-visual-concert/
LOCATION:Centro Cultural El Refugio\, Tlaquepaque\, Mexico
ATTACH;FMTTYPE=image/jpeg:https://www.marcosagave.com/wp-content/uploads/2024/06/https___cdn.evbuc_.com_images_712604959_920908336523_1_original.jpg
END:VEVENT
END:VCALENDAR