BEGIN:VCALENDAR
VERSION:2.0
PRODID:-//Marcos Agave Tours - ECPv6.5.1//NONSGML v1.0//EN
CALSCALE:GREGORIAN
METHOD:PUBLISH
X-WR-CALNAME:Marcos Agave Tours
X-ORIGINAL-URL:https://www.marcosagave.com
X-WR-CALDESC:Events for Marcos Agave Tours
REFRESH-INTERVAL;VALUE=DURATION:PT1H
X-Robots-Tag:noindex
X-PUBLISHED-TTL:PT1H
BEGIN:VTIMEZONE
TZID:UTC
BEGIN:STANDARD
TZOFFSETFROM:+0000
TZOFFSETTO:+0000
TZNAME:UTC
DTSTART:20250101T000000
END:STANDARD
END:VTIMEZONE
BEGIN:VEVENT
DTSTART;VALUE=DATE:20250301
DTEND;VALUE=DATE:20250302
DTSTAMP:20260421T023252
CREATED:20240717T194636Z
LAST-MODIFIED:20240717T194808Z
UID:735-1740787200-1740873599@www.marcosagave.com
SUMMARY:MARCOS AGAVE BIRTHDAY
DESCRIPTION:Join Marcos Agave for a Tequila Tasting at Casa Luna in Tlaquepaque.
URL:https://www.marcosagave.com/event/marocs-agave-birthday/
ATTACH;FMTTYPE=image/jpeg:https://www.marcosagave.com/wp-content/uploads/2024/07/HAVANA20.jpg
END:VEVENT
END:VCALENDAR